BEGIN:VCALENDAR
VERSION:2.0
PRODID:-//Chantale Milord - ECPv6.15.13.1//NONSGML v1.0//EN
CALSCALE:GREGORIAN
METHOD:PUBLISH
X-WR-CALNAME:Chantale Milord
X-ORIGINAL-URL:https://staging.chantalemilord.com
X-WR-CALDESC:Events for Chantale Milord
REFRESH-INTERVAL;VALUE=DURATION:PT1H
X-Robots-Tag:noindex
X-PUBLISHED-TTL:PT1H
BEGIN:VTIMEZONE
TZID:America/New_York
BEGIN:DAYLIGHT
TZOFFSETFROM:-0500
TZOFFSETTO:-0400
TZNAME:EDT
DTSTART:20230312T070000
END:DAYLIGHT
BEGIN:STANDARD
TZOFFSETFROM:-0400
TZOFFSETTO:-0500
TZNAME:EST
DTSTART:20231105T060000
END:STANDARD
BEGIN:DAYLIGHT
TZOFFSETFROM:-0500
TZOFFSETTO:-0400
TZNAME:EDT
DTSTART:20240310T070000
END:DAYLIGHT
BEGIN:STANDARD
TZOFFSETFROM:-0400
TZOFFSETTO:-0500
TZNAME:EST
DTSTART:20241103T060000
END:STANDARD
BEGIN:DAYLIGHT
TZOFFSETFROM:-0500
TZOFFSETTO:-0400
TZNAME:EDT
DTSTART:20250309T070000
END:DAYLIGHT
BEGIN:STANDARD
TZOFFSETFROM:-0400
TZOFFSETTO:-0500
TZNAME:EST
DTSTART:20251102T060000
END:STANDARD
END:VTIMEZONE
BEGIN:VEVENT
DTSTART;VALUE=DATE:20241111
DTEND;VALUE=DATE:20241112
DTSTAMP:20260421T114729
CREATED:20241008T013656Z
LAST-MODIFIED:20241015T034326Z
UID:277379-1731283200-1731369599@staging.chantalemilord.com
SUMMARY:Reset Retreat (Fall 2024)
DESCRIPTION:Are you feeling uncertain\, unfulfilled\, or disconnected from your true purpose? Do you long to break free from the limitations that hold you back? \nDiscover the extraordinary person you were born to be. “YOU” are Possible! \nJoin us on a journey of self-discovery and awakening. Unlock your true potential and become unstoppable!
URL:https://staging.chantalemilord.com/event/reset-retreat-fall-2024/
LOCATION:Private 5-Acre Ranch\, Jupiter\, FL\, 12876 154th Rd N.\, Jupiter\, FL\, 33478\, United States
CATEGORIES:Retreat
ATTACH;FMTTYPE=image/webp:https://staging.chantalemilord.com/wp-content/uploads/2024/09/Retreat-Flyer-Fall-2024-Product-Image.webp
END:VEVENT
END:VCALENDAR